BEGIN:VCALENDAR
PRODID:-//opencal/ical//2.0/EN
VERSION:2.0
CALSCALE:GREGORIAN
BEGIN:VEVENT
UID:099efe7b264f1202c9735eaf2c308998
DTSTAMP:20260423T152346Z
SUMMARY:Sternmarsch nach Remigen - Org. MR Remigen
DESCRIPTION:Datum noch nicht fix\, jedoch an einem Sonntag im Jan. 2029\, O
 rganisator: MR      
DTSTART;TZID=Europe/Zurich:20290114T000000
DTEND;TZID=Europe/Zurich:20290114T235959
END:VEVENT
END:VCALENDAR
