BEGIN:VCALENDAR
PRODID:-//opencal/ical//2.0/EN
VERSION:2.0
CALSCALE:GREGORIAN
BEGIN:VEVENT
UID:b51abd22d9755e247f5f844fff565cdf
DTSTAMP:20260421T142617Z
SUMMARY:Aargauer Kantonalturnfest Stein 2028
DESCRIPTION:Platzhalter Termin\, 1. und 2. Wochenende\, Organisator: STV FR
  MR JR   
DTSTART;TZID=Europe/Zurich:20280616T000000
DTEND;TZID=Europe/Zurich:20280625T235959
END:VEVENT
END:VCALENDAR
