BEGIN:VCALENDAR
PRODID:-//opencal/ical//2.0/EN
VERSION:2.0
CALSCALE:GREGORIAN
BEGIN:VEVENT
UID:cbccc758f7fdecde54eb3b2df8650b26
DTSTAMP:20260426T003804Z
SUMMARY:Turnershow
DESCRIPTION:\, Organisator: STV FR MR JR   
DTSTART;TZID=Europe/Zurich:20270101T000000
DTEND;TZID=Europe/Zurich:20270102T235959
END:VEVENT
BEGIN:VEVENT
UID:04c3633309044e2eb0bead0459b77912
DTSTAMP:20260426T003804Z
SUMMARY:Turnershow
DESCRIPTION:\, Organisator: STV FR MR JR   
DTSTART;TZID=Europe/Zurich:20270108T000000
DTEND;TZID=Europe/Zurich:20270109T235959
END:VEVENT
BEGIN:VEVENT
UID:8c164c513a1511fbc7fdd9bd115112f7
DTSTAMP:20260426T003804Z
SUMMARY:Turnershow Abräumen
DESCRIPTION:\, Organisator: STV FR MR    
DTSTART;TZID=Europe/Zurich:20270110T000000
DTEND;TZID=Europe/Zurich:20270110T235959
END:VEVENT
BEGIN:VEVENT
UID:d9b7b846796de3f74ce9eea7a7c5dcc4
DTSTAMP:20260426T003804Z
SUMMARY:61. Generalversammlung Männerriege
DESCRIPTION:\, Organisator: MR      
DTSTART;TZID=Europe/Zurich:20270115T000000
DTEND;TZID=Europe/Zurich:20270115T235959
END:VEVENT
BEGIN:VEVENT
UID:358188673d6ea51b6b6fa90986983a8d
DTSTAMP:20260426T003804Z
SUMMARY:Talturnfest 2027 im Schenkenbergertal
DESCRIPTION:Platzhalter Termin 1. und 2. Wochenende\, Organisator: STV FR M
 R JR   
DTSTART;TZID=Europe/Zurich:20270611T000000
DTEND;TZID=Europe/Zurich:20270620T235959
END:VEVENT
BEGIN:VEVENT
UID:305e019df3f2c0e7ba9ad92464767b16
DTSTAMP:20260426T003804Z
SUMMARY:Bundesfeier Gemeinde Remigen
DESCRIPTION:Barbetrieb\, Brunch\, Organisator: STV JR MR FR Allg  
DTSTART;TZID=Europe/Zurich:20270730T000000
DTEND;TZID=Europe/Zurich:20270731T235959
END:VEVENT
BEGIN:VEVENT
UID:05712d79ca426a6734d3838c876c654a
DTSTAMP:20260426T003804Z
SUMMARY:DV Kreisturnverband Brugg in Remigen
DESCRIPTION:Alle\, Organisator: STV FR MR    
DTSTART;TZID=Europe/Zurich:20271204T000000
DTEND;TZID=Europe/Zurich:20271204T235959
END:VEVENT
END:VCALENDAR
