BEGIN:VCALENDAR
PRODID:-//opencal/ical//2.0/EN
VERSION:2.0
CALSCALE:GREGORIAN
BEGIN:VEVENT
UID:4b547c61e39038a3d04b6b63ec5ca861
DTSTAMP:20260421T111833Z
SUMMARY:60. Generalversammlung Männerriege
DESCRIPTION:\, Organisator: MR      
DTSTART;TZID=Europe/Zurich:20260116T000000
DTEND;TZID=Europe/Zurich:20260116T235959
END:VEVENT
BEGIN:VEVENT
UID:765432353e1c1bb0f4784763b4bed7aa
DTSTAMP:20260421T111833Z
SUMMARY:Sternmarsch nach Villnachern
DESCRIPTION:Vorstand\, Organisator: MR      
DTSTART;TZID=Europe/Zurich:20260118T000000
DTEND;TZID=Europe/Zurich:20260118T235959
END:VEVENT
BEGIN:VEVENT
UID:3f675be2427ea1feeec8f328cca3462f
DTSTAMP:20260421T111833Z
SUMMARY:36. Generalversammlung Frauenriege Remigen
DESCRIPTION:Vorstand\, Organisator: FR      
DTSTART;TZID=Europe/Zurich:20260123T000000
DTEND;TZID=Europe/Zurich:20260123T235959
END:VEVENT
BEGIN:VEVENT
UID:fd99918a0b79c85c24e065efd42acf47
DTSTAMP:20260421T111833Z
SUMMARY:114. Generalversammlung STV
DESCRIPTION:Vorstand\, Organisator: STV JR     
DTSTART;TZID=Europe/Zurich:20260130T000000
DTEND;TZID=Europe/Zurich:20260130T235959
END:VEVENT
BEGIN:VEVENT
UID:67661f8c4dc8360cd37604d7625be6c5
DTSTAMP:20260421T111833Z
SUMMARY:Sportferien
DESCRIPTION:\, Organisator: Allg      
DTSTART;TZID=Europe/Zurich:20260131T000000
DTEND;TZID=Europe/Zurich:20260215T235959
END:VEVENT
BEGIN:VEVENT
UID:13876fb66f9388dfe88c421be71b4713
DTSTAMP:20260421T111833Z
SUMMARY:Maskenball Remigen
DESCRIPTION:OK\, Alle\, Organisator: STV      
DTSTART;TZID=Europe/Zurich:20260220T000000
DTEND;TZID=Europe/Zurich:20260222T235959
END:VEVENT
BEGIN:VEVENT
UID:5789d88e30fd92ab1430fcd313b29c95
DTSTAMP:20260421T111833Z
SUMMARY:Besuch Maskenball STV
DESCRIPTION:\, Organisator: FR      
DTSTART;TZID=Europe/Zurich:20260221T000000
DTEND;TZID=Europe/Zurich:20260221T235959
END:VEVENT
BEGIN:VEVENT
UID:0bb9897e6d5ab885806edde0e19e85f9
DTSTAMP:20260421T111833Z
SUMMARY:Besuch Maskenball
DESCRIPTION:STV\, Organisator: MR      
DTSTART;TZID=Europe/Zurich:20260221T000000
DTEND;TZID=Europe/Zurich:20260221T235959
END:VEVENT
BEGIN:VEVENT
UID:1a68fd682b15463285dcde98b591e93c
DTSTAMP:20260421T111833Z
SUMMARY:Remiger Dorf Skiweekend
DESCRIPTION:Grindelwald\, Organisator: STV      
DTSTART;TZID=Europe/Zurich:20260306T000000
DTEND;TZID=Europe/Zurich:20260307T235959
END:VEVENT
BEGIN:VEVENT
UID:dcb66fd8d11506e914f605b3485be912
DTSTAMP:20260421T111833Z
SUMMARY:Remiger Dorf Skiweekend
DESCRIPTION:Grindelwald\, Organisator: Allg      
DTSTART;TZID=Europe/Zurich:20260306T000000
DTEND;TZID=Europe/Zurich:20260307T235959
END:VEVENT
BEGIN:VEVENT
UID:1495674ed88712e6c55c2187e8016bea
DTSTAMP:20260421T111833Z
SUMMARY:VM Indoor
DESCRIPTION:TK\, Organisator: STV      
DTSTART;TZID=Europe/Zurich:20260313T000000
DTEND;TZID=Europe/Zurich:20260313T235959
END:VEVENT
BEGIN:VEVENT
UID:6ec2a7ff0fd278ecf49039a36ba094fe
DTSTAMP:20260421T111833Z
SUMMARY:Papiersammlung Musikgesellschaft
DESCRIPTION:\, Organisator: Gde      
DTSTART;TZID=Europe/Zurich:20260314T000000
DTEND;TZID=Europe/Zurich:20260314T235959
END:VEVENT
BEGIN:VEVENT
UID:204c3eb535dfd44f615e0b11fa49193b
DTSTAMP:20260421T111833Z
SUMMARY:Juko-Konferenz
DESCRIPTION:Jugileitende\, Organisator: STV JR     
DTSTART;TZID=Europe/Zurich:20260319T000000
DTEND;TZID=Europe/Zurich:20260319T235959
END:VEVENT
BEGIN:VEVENT
UID:21141835a8452f011a787faa128cdb8e
DTSTAMP:20260421T111833Z
SUMMARY:DOG-Turnier
DESCRIPTION:Vorstand\, Organisator: FR      
DTSTART;TZID=Europe/Zurich:20260321T000000
DTEND;TZID=Europe/Zurich:20260321T235959
END:VEVENT
BEGIN:VEVENT
UID:0ed880b60fe4ff4b335cdaca6b9a8055
DTSTAMP:20260421T111833Z
SUMMARY:Dog-Turnier der Frauenriege
DESCRIPTION:\, Organisator: STV FR     
DTSTART;TZID=Europe/Zurich:20260321T000000
DTEND;TZID=Europe/Zurich:20260321T235959
END:VEVENT
BEGIN:VEVENT
UID:67a2651f9f143e4434eb7860742ae774
DTSTAMP:20260421T111833Z
SUMMARY:Faustball Grosshallentraining Brugg
DESCRIPTION:Leiter Faustball\, Organisator: MR      
DTSTART;TZID=Europe/Zurich:20260321T000000
DTEND;TZID=Europe/Zurich:20260321T235959
END:VEVENT
BEGIN:VEVENT
UID:fe5d903197d15b4b88fb40fa72da57e4
DTSTAMP:20260421T111833Z
SUMMARY:Waldarbeitstag
DESCRIPTION:\, Organisator: Gde      
DTSTART;TZID=Europe/Zurich:20260321T000000
DTEND;TZID=Europe/Zurich:20260321T235959
END:VEVENT
BEGIN:VEVENT
UID:d1495e67b8327a7b88df3e98dcba4969
DTSTAMP:20260421T111833Z
SUMMARY:Volleyball-Night\, Windisch
DESCRIPTION:Volley\, TK\, Organisator: STV      
DTSTART;TZID=Europe/Zurich:20260327T000000
DTEND;TZID=Europe/Zurich:20260327T235959
END:VEVENT
BEGIN:VEVENT
UID:a70908970af58defa2472a2f94030902
DTSTAMP:20260421T111833Z
SUMMARY:Waldarbeitstag (Schiebedatum)
DESCRIPTION:\, Organisator: Gde      
DTSTART;TZID=Europe/Zurich:20260328T000000
DTEND;TZID=Europe/Zurich:20260328T235959
END:VEVENT
BEGIN:VEVENT
UID:54d1fa41697f0b78988af98c30234e5e
DTSTAMP:20260421T111833Z
SUMMARY:Frühlingsferien
DESCRIPTION:\, Organisator: Allg      
DTSTART;TZID=Europe/Zurich:20260403T000000
DTEND;TZID=Europe/Zurich:20260419T235959
END:VEVENT
BEGIN:VEVENT
UID:76bec9ec86a4a28cd10733f1c2c8fb57
DTSTAMP:20260421T111833Z
SUMMARY:Vereinsmeisterschaft Bowling
DESCRIPTION:techn. Leitung\, Organisator: MR      
DTSTART;TZID=Europe/Zurich:20260408T000000
DTEND;TZID=Europe/Zurich:20260408T235959
END:VEVENT
BEGIN:VEVENT
UID:de5e146fa02b66f2524321de5d460b88
DTSTAMP:20260421T111833Z
SUMMARY:Faustballturnier Niederrohrdorf
DESCRIPTION:Leiter Faustball\, Organisator: MR      
DTSTART;TZID=Europe/Zurich:20260411T000000
DTEND;TZID=Europe/Zurich:20260411T235959
END:VEVENT
BEGIN:VEVENT
UID:4b1dbcc9e6fc70f8ef489c749dd1ca49
DTSTAMP:20260421T111833Z
SUMMARY:Vereinsmeisterschaft Schiessen
DESCRIPTION:techn. Leitung\, Organisator: MR      
DTSTART;TZID=Europe/Zurich:20260415T000000
DTEND;TZID=Europe/Zurich:20260415T235959
END:VEVENT
BEGIN:VEVENT
UID:bd0fa87bf4760bdcf99cfb6761342da2
DTSTAMP:20260421T111833Z
SUMMARY:Turnstand
DESCRIPTION:Vorstand\, Organisator: FR      
DTSTART;TZID=Europe/Zurich:20260423T000000
DTEND;TZID=Europe/Zurich:20260423T235959
END:VEVENT
BEGIN:VEVENT
UID:a9e7d410551619e6e93126da674383dd
DTSTAMP:20260421T111833Z
SUMMARY:Jugitag\, Veltheim
DESCRIPTION:Jugileitende\, Organisator: STV JR     
DTSTART;TZID=Europe/Zurich:20260425T000000
DTEND;TZID=Europe/Zurich:20260425T235959
END:VEVENT
BEGIN:VEVENT
UID:6e66e120a4dc79ac2eebad1253ed3bf4
DTSTAMP:20260421T111833Z
SUMMARY:Remigen/Mönthal bewegt - Coop Gemeindeduell
DESCRIPTION:\, Organisator: Gde Allg     
DTSTART;TZID=Europe/Zurich:20260501T000000
DTEND;TZID=Europe/Zurich:20260531T235959
END:VEVENT
BEGIN:VEVENT
UID:326ce4e21f4318c4c8278c6295f3c865
DTSTAMP:20260421T111833Z
SUMMARY:Volleyballturnier\, Turnhalle Remigen
DESCRIPTION:Carmen + Yvonne\, Organisator: STV      
DTSTART;TZID=Europe/Zurich:20260509T000000
DTEND;TZID=Europe/Zurich:20260509T235959
END:VEVENT
BEGIN:VEVENT
UID:2762b98200087712fbbd9ffa9815625a
DTSTAMP:20260421T111833Z
SUMMARY:UBS Kids Cup\, Villnachern
DESCRIPTION:Jugileitende\, Organisator: STV JR     
DTSTART;TZID=Europe/Zurich:20260509T000000
DTEND;TZID=Europe/Zurich:20260509T235959
END:VEVENT
BEGIN:VEVENT
UID:bd89720827b541846e58362be1f56cd0
DTSTAMP:20260421T111833Z
SUMMARY:Auffahrtswanderung
DESCRIPTION:Organisation: STV\, Organisator: STV FR MR JR   
DTSTART;TZID=Europe/Zurich:20260514T000000
DTEND;TZID=Europe/Zurich:20260514T235959
END:VEVENT
BEGIN:VEVENT
UID:23e0bdb8e1314deab8b0642796b4a5ea
DTSTAMP:20260421T111833Z
SUMMARY:PLK\, Villnachern
DESCRIPTION:Ramona + TK\, Organisator: STV      
DTSTART;TZID=Europe/Zurich:20260520T000000
DTEND;TZID=Europe/Zurich:20260520T235959
END:VEVENT
BEGIN:VEVENT
UID:808040c531699a3b453017b4178a1272
DTSTAMP:20260421T111833Z
SUMMARY:Arbeitseinsätze am Brugger Cup in Remigen (organisiert durch STV)
DESCRIPTION:\, Organisator: FR      
DTSTART;TZID=Europe/Zurich:20260522T000000
DTEND;TZID=Europe/Zurich:20260522T235959
END:VEVENT
BEGIN:VEVENT
UID:f46743d9a547908466511fdac1f9695b
DTSTAMP:20260421T111833Z
SUMMARY:Vereinscup in Remigen
DESCRIPTION:OK\, Alle\, Organisator: STV      
DTSTART;TZID=Europe/Zurich:20260522T000000
DTEND;TZID=Europe/Zurich:20260522T235959
END:VEVENT
BEGIN:VEVENT
UID:da5d5a286fc80a1b794c4524c74b3df9
DTSTAMP:20260421T111833Z
SUMMARY:div. Arbeitseinsätze beim Brugger Cup in Remigen
DESCRIPTION:Organisation STV\, Organisator: MR      
DTSTART;TZID=Europe/Zurich:20260522T000000
DTEND;TZID=Europe/Zurich:20260522T235959
END:VEVENT
BEGIN:VEVENT
UID:f3fb7d9c0244873bf522186cd6f74bf8
DTSTAMP:20260421T111833Z
SUMMARY:Bewegungstag im Rahmen von Gemeindeduell
DESCRIPTION:\, Organisator: Allg      
DTSTART;TZID=Europe/Zurich:20260530T000000
DTEND;TZID=Europe/Zurich:20260530T235959
END:VEVENT
BEGIN:VEVENT
UID:d334382e70f6a7f2cb7d2c3d4a5d2ced
DTSTAMP:20260421T111833Z
SUMMARY:Jahreskonzert MG Remigen\, Bewegungstag
DESCRIPTION:\, Organisator: STV JR  FR Allg  
DTSTART;TZID=Europe/Zurich:20260530T000000
DTEND;TZID=Europe/Zurich:20260530T235959
END:VEVENT
BEGIN:VEVENT
UID:864038ed39f74263851ec163fffbba8c
DTSTAMP:20260421T111833Z
SUMMARY:Fricktaler Cup\, Schupfart
DESCRIPTION:Aerobic\, Organisator: STV      
DTSTART;TZID=Europe/Zurich:20260530T000000
DTEND;TZID=Europe/Zurich:20260530T235959
END:VEVENT
BEGIN:VEVENT
UID:32456cbcf34026afd5a84c1f450601c5
DTSTAMP:20260421T111833Z
SUMMARY:Teilnahme am Feldschiessen
DESCRIPTION:techn. Leitung\, Organisator: MR      
DTSTART;TZID=Europe/Zurich:20260530T000000
DTEND;TZID=Europe/Zurich:20260530T235959
END:VEVENT
BEGIN:VEVENT
UID:75b8ea266610a4c0eae71f8e380333c1
DTSTAMP:20260421T111833Z
SUMMARY:Papiersammlung Freizeitclub
DESCRIPTION:\, Organisator: Gde      
DTSTART;TZID=Europe/Zurich:20260606T000000
DTEND;TZID=Europe/Zurich:20260606T235959
END:VEVENT
BEGIN:VEVENT
UID:bb5491f76f36ea0ecdc5cb2c3fccecfb
DTSTAMP:20260421T111833Z
SUMMARY:Sonntagsturnen (evtl.)
DESCRIPTION:TK\, Alle\, Organisator: STV JR     
DTSTART;TZID=Europe/Zurich:20260607T000000
DTEND;TZID=Europe/Zurich:20260607T235959
END:VEVENT
BEGIN:VEVENT
UID:5d4053b01cc33020b528c1ce4d09a721
DTSTAMP:20260421T111833Z
SUMMARY:Einwohnergemeindeversammlung
DESCRIPTION:Turnhalle\, Organisator: Gde      
DTSTART;TZID=Europe/Zurich:20260611T000000
DTEND;TZID=Europe/Zurich:20260611T235959
END:VEVENT
BEGIN:VEVENT
UID:b5a11090fb7279b1ffbd072c1b2d5f86
DTSTAMP:20260421T111833Z
SUMMARY:Turnfest Seengen
DESCRIPTION:Jugend\, Einzelwettkämpfe\, Organisator: STV JR     
DTSTART;TZID=Europe/Zurich:20260613T000000
DTEND;TZID=Europe/Zurich:20260613T235959
END:VEVENT
BEGIN:VEVENT
UID:f86be086d72e1629c6f82158e72af8c8
DTSTAMP:20260421T111833Z
SUMMARY:Kantonales Turnfest Appenzell\, Herisau
DESCRIPTION:Aktive\, 3-teiliger Vereinswettkampf\, Organisator: STV      
DTSTART;TZID=Europe/Zurich:20260619T000000
DTEND;TZID=Europe/Zurich:20260621T235959
END:VEVENT
BEGIN:VEVENT
UID:33439fc793c059598be67e762a9d8be2
DTSTAMP:20260421T111833Z
SUMMARY:Ortsbürgergemeindeversammlung
DESCRIPTION:Waldhütte\, Organisator: Gde      
DTSTART;TZID=Europe/Zurich:20260619T000000
DTEND;TZID=Europe/Zurich:20260619T235959
END:VEVENT
BEGIN:VEVENT
UID:af2b07ced90627f8ea2852a28503eed3
DTSTAMP:20260421T111833Z
SUMMARY:Turnfest Seengen
DESCRIPTION:techn. Leitung\, Organisator: MR      
DTSTART;TZID=Europe/Zurich:20260620T000000
DTEND;TZID=Europe/Zurich:20260620T235959
END:VEVENT
BEGIN:VEVENT
UID:54b223d47e5cfaa379894276864c96a5
DTSTAMP:20260421T111833Z
SUMMARY:Turnen Frauenriege+Männerriege
DESCRIPTION:Organisation: Frauenriege\, Organisator: FR MR     
DTSTART;TZID=Europe/Zurich:20260625T000000
DTEND;TZID=Europe/Zurich:20260625T235959
END:VEVENT
BEGIN:VEVENT
UID:8d5ef9048313ed271cdb0841f7376708
DTSTAMP:20260421T111833Z
SUMMARY:Besuch Jugendfest in Brugg - kein Turnen
DESCRIPTION:\, Organisator: FR      
DTSTART;TZID=Europe/Zurich:20260702T000000
DTEND;TZID=Europe/Zurich:20260702T235959
END:VEVENT
BEGIN:VEVENT
UID:5f4de797b1bae0054ed97921b751d821
DTSTAMP:20260421T111833Z
SUMMARY:VM Minigolf Windisch
DESCRIPTION:Vorstand\, TK\, Organisator: STV      
DTSTART;TZID=Europe/Zurich:20260703T000000
DTEND;TZID=Europe/Zurich:20260703T235959
END:VEVENT
BEGIN:VEVENT
UID:e72e671ba88edfca6aec0a603c9e958a
DTSTAMP:20260421T111833Z
SUMMARY:kein Turnen - Sommerferien
DESCRIPTION:\, Organisator: FR      
DTSTART;TZID=Europe/Zurich:20260704T000000
DTEND;TZID=Europe/Zurich:20260809T235959
END:VEVENT
BEGIN:VEVENT
UID:525baf47e7039b46dd08788a132f70a0
DTSTAMP:20260421T111833Z
SUMMARY:Schulferien\, Spezielles Sommerprogramm
DESCRIPTION:Vorstand\, Organisator: STV      
DTSTART;TZID=Europe/Zurich:20260704T000000
DTEND;TZID=Europe/Zurich:20260809T235959
END:VEVENT
BEGIN:VEVENT
UID:f50ad88e91566e5fcc07e0fda368892b
DTSTAMP:20260421T111833Z
SUMMARY:Sommerferien
DESCRIPTION:\, Organisator: Allg      
DTSTART;TZID=Europe/Zurich:20260704T000000
DTEND;TZID=Europe/Zurich:20260809T235959
END:VEVENT
BEGIN:VEVENT
UID:147ab18d187f2836e0b7ccbc5f8587b5
DTSTAMP:20260421T111833Z
SUMMARY:Vereinsmeisterschaft Minigolf
DESCRIPTION:techn. Leitung\, Organisator: MR      
DTSTART;TZID=Europe/Zurich:20260708T000000
DTEND;TZID=Europe/Zurich:20260708T235959
END:VEVENT
BEGIN:VEVENT
UID:1a27ed38e71c0cdaadb8e1d2013b542d
DTSTAMP:20260421T111833Z
SUMMARY:Abendrennen Schachen Brugg mit Velo
DESCRIPTION:techn. Leitung\, Organisator: MR      
DTSTART;TZID=Europe/Zurich:20260715T000000
DTEND;TZID=Europe/Zurich:20260715T235959
END:VEVENT
BEGIN:VEVENT
UID:dceab6bf8430d1772954426ee1693b53
DTSTAMP:20260421T111833Z
SUMMARY:Bundesfeier
DESCRIPTION:Barbetrieb\, Brunch\, Organisator: STV JR MR FR Allg  
DTSTART;TZID=Europe/Zurich:20260731T000000
DTEND;TZID=Europe/Zurich:20260801T235959
END:VEVENT
BEGIN:VEVENT
UID:15ea4e558dc51ac78d7f02eb980e4fe8
DTSTAMP:20260421T111833Z
SUMMARY:Bundesfeier
DESCRIPTION:\, Organisator: Gde      
DTSTART;TZID=Europe/Zurich:20260801T000000
DTEND;TZID=Europe/Zurich:20260801T235959
END:VEVENT
BEGIN:VEVENT
UID:a72f4f11a96b8585ab1c6eb348ecb6fb
DTSTAMP:20260421T111833Z
SUMMARY:Faustball Plauschturnier in Hausen
DESCRIPTION:Leiter Faustball\, Organisator: MR      
DTSTART;TZID=Europe/Zurich:20260807T000000
DTEND;TZID=Europe/Zurich:20260807T235959
END:VEVENT
BEGIN:VEVENT
UID:7fd22b02ebb0253370dbf3fabdb0e143
DTSTAMP:20260421T111833Z
SUMMARY:Dorfgrümpelturnier
DESCRIPTION:Stef\, Alle\, Organisator: STV      
DTSTART;TZID=Europe/Zurich:20260815T000000
DTEND;TZID=Europe/Zurich:20260815T235959
END:VEVENT
BEGIN:VEVENT
UID:a25edc7900608d6507229fa5ae6443c0
DTSTAMP:20260421T111833Z
SUMMARY:Fussball Grümpi
DESCRIPTION:OK\, Organisator: MR      
DTSTART;TZID=Europe/Zurich:20260815T000000
DTEND;TZID=Europe/Zurich:20260815T235959
END:VEVENT
BEGIN:VEVENT
UID:adcd2ffe39e57167170fe73d9a26ea1d
DTSTAMP:20260421T111833Z
SUMMARY:VM OL
DESCRIPTION:Luki\, TK\, Organisator: STV      
DTSTART;TZID=Europe/Zurich:20260821T000000
DTEND;TZID=Europe/Zurich:20260821T235959
END:VEVENT
BEGIN:VEVENT
UID:1c81ea90d182c325fb58ad8f86284c02
DTSTAMP:20260421T111833Z
SUMMARY:Seniorenhock
DESCRIPTION:Leiter Senioren\, Organisator: MR      
DTSTART;TZID=Europe/Zurich:20260826T000000
DTEND;TZID=Europe/Zurich:20260826T235959
END:VEVENT
BEGIN:VEVENT
UID:8a55bf9132d3fada1b5f380b321f74e3
DTSTAMP:20260421T111833Z
SUMMARY:Turnfahrt
DESCRIPTION:Alle\, Organisator: STV      
DTSTART;TZID=Europe/Zurich:20260829T000000
DTEND;TZID=Europe/Zurich:20260830T235959
END:VEVENT
BEGIN:VEVENT
UID:a768341d0b40f8596d5bc9d79709dc2e
DTSTAMP:20260421T111833Z
SUMMARY:Männerriegenreise / Turnfahrt
DESCRIPTION:Roland\, Organisator: MR      
DTSTART;TZID=Europe/Zurich:20260829T000000
DTEND;TZID=Europe/Zurich:20260830T235959
END:VEVENT
BEGIN:VEVENT
UID:af18df6a7bd29e881fe9d18825336daf
DTSTAMP:20260421T111833Z
SUMMARY:Turnen / Faustball mit Männerriege
DESCRIPTION:TK\, Organisator: STV MR     
DTSTART;TZID=Europe/Zurich:20260904T000000
DTEND;TZID=Europe/Zurich:20260904T235959
END:VEVENT
BEGIN:VEVENT
UID:75ddbd1fb2cc160e18d611e19a01f70a
DTSTAMP:20260421T111833Z
SUMMARY:Frauenriegenreise
DESCRIPTION:Monika L.\, Organisator: FR      
DTSTART;TZID=Europe/Zurich:20260905T000000
DTEND;TZID=Europe/Zurich:20260906T235959
END:VEVENT
BEGIN:VEVENT
UID:de9cc2a0e4cd77f0370cb98524e68c6f
DTSTAMP:20260421T111833Z
SUMMARY:LA Kreismeisterschaft\, Schinznach-Dorf
DESCRIPTION:Jugileitende (Datum folgt)\, Organisator: STV JR     
DTSTART;TZID=Europe/Zurich:20260905T000000
DTEND;TZID=Europe/Zurich:20260905T235959
END:VEVENT
BEGIN:VEVENT
UID:656be038eee5994351661cc38932bfac
DTSTAMP:20260421T111833Z
SUMMARY:Papiersammlung MR
DESCRIPTION:\, Organisator: MR Gde     
DTSTART;TZID=Europe/Zurich:20260905T000000
DTEND;TZID=Europe/Zurich:20260905T235959
END:VEVENT
BEGIN:VEVENT
UID:9751d35e441c3872ce2baa4e9ce99630
DTSTAMP:20260421T111833Z
SUMMARY:Seniorenausflug
DESCRIPTION:\, Organisator: Gde      
DTSTART;TZID=Europe/Zurich:20260918T000000
DTEND;TZID=Europe/Zurich:20260918T235959
END:VEVENT
BEGIN:VEVENT
UID:db987d0623d4630d8a9088591dd11ccb
DTSTAMP:20260421T111833Z
SUMMARY:Kreisspieltag Hausen\, Aktive
DESCRIPTION:TK\, Alle\, Organisator: STV      
DTSTART;TZID=Europe/Zurich:20260919T000000
DTEND;TZID=Europe/Zurich:20260919T235959
END:VEVENT
BEGIN:VEVENT
UID:9132a82adcb2f99f25c9a2f357c4296c
DTSTAMP:20260421T111833Z
SUMMARY:Kreisspieltag Hausen
DESCRIPTION:Leiter Faustball\, Organisator: MR      
DTSTART;TZID=Europe/Zurich:20260919T000000
DTEND;TZID=Europe/Zurich:20260919T235959
END:VEVENT
BEGIN:VEVENT
UID:cc56747ef9a38b1760a480edc7f3c502
DTSTAMP:20260421T111833Z
SUMMARY:Kreisspieltag Hausen\, Jugend
DESCRIPTION:Jugileitende\, Organisator: STV JR     
DTSTART;TZID=Europe/Zurich:20260920T000000
DTEND;TZID=Europe/Zurich:20260920T235959
END:VEVENT
BEGIN:VEVENT
UID:30e7a6900bce6d2497a5d5dfc3028241
DTSTAMP:20260421T111833Z
SUMMARY:Turnstand
DESCRIPTION:techn. Leitung\, Organisator: MR      
DTSTART;TZID=Europe/Zurich:20260923T000000
DTEND;TZID=Europe/Zurich:20260923T235959
END:VEVENT
BEGIN:VEVENT
UID:c8a77d7da4c927524c502daafa058cd2
DTSTAMP:20260421T111833Z
SUMMARY:Herbstferien
DESCRIPTION:\, Organisator: Allg      
DTSTART;TZID=Europe/Zurich:20260926T000000
DTEND;TZID=Europe/Zurich:20261011T235959
END:VEVENT
BEGIN:VEVENT
UID:81dd16f896a8dfbea4a7bf8ce2b62c83
DTSTAMP:20260421T111833Z
SUMMARY:VM Schwimmen / Kegeln
DESCRIPTION:TK\, Organisator: STV      
DTSTART;TZID=Europe/Zurich:20261002T000000
DTEND;TZID=Europe/Zurich:20261002T235959
END:VEVENT
BEGIN:VEVENT
UID:7e03904c53d22524047c676d8596fb5d
DTSTAMP:20260421T111833Z
SUMMARY:Faustball Hallen Freundschaftsturnier in Remigen
DESCRIPTION:Leiter Faustball\, Organisator: MR      
DTSTART;TZID=Europe/Zurich:20261002T000000
DTEND;TZID=Europe/Zurich:20261002T235959
END:VEVENT
BEGIN:VEVENT
UID:fcbe8e10fbca0ae1957618c6149ac603
DTSTAMP:20260421T111833Z
SUMMARY:Vereinsmeisterschaft Kegeln
DESCRIPTION:techn. Leitung\, Treffpunkt 18.30 Bären\, Organisator: MR     
  
DTSTART;TZID=Europe/Zurich:20261007T000000
DTEND;TZID=Europe/Zurich:20261007T235959
END:VEVENT
BEGIN:VEVENT
UID:53ecb11215fc81eb45448c812f4d88b5
DTSTAMP:20260421T111833Z
SUMMARY:Turnstand
DESCRIPTION:Vorstand\, Organisator: FR      
DTSTART;TZID=Europe/Zurich:20261029T000000
DTEND;TZID=Europe/Zurich:20261029T235959
END:VEVENT
BEGIN:VEVENT
UID:43fba57e70cb267b335ebf7c5cb051e5
DTSTAMP:20260421T111833Z
SUMMARY:Jassmeisterschaft
DESCRIPTION:Thomas\, Alle\, Organisator: STV      
DTSTART;TZID=Europe/Zurich:20261106T000000
DTEND;TZID=Europe/Zurich:20261106T235959
END:VEVENT
BEGIN:VEVENT
UID:d93de1f675ddcdde21ee83fa5f1567d3
DTSTAMP:20260421T111833Z
SUMMARY:Schlusshock
DESCRIPTION:OK\, Alle\, Organisator: STV      
DTSTART;TZID=Europe/Zurich:20261121T000000
DTEND;TZID=Europe/Zurich:20261121T235959
END:VEVENT
BEGIN:VEVENT
UID:8cb1d87c43f26ebb679680df2ec3bbe1
DTSTAMP:20260421T111833Z
SUMMARY:Einwohner- und Ortsbürgergemeindeversammlung
DESCRIPTION:Turnhalle\, Organisator: Gde      
DTSTART;TZID=Europe/Zurich:20261125T000000
DTEND;TZID=Europe/Zurich:20261125T235959
END:VEVENT
BEGIN:VEVENT
UID:53f918fd6943907ae335e2b87d9d361a
DTSTAMP:20260421T111833Z
SUMMARY:Chlaushock
DESCRIPTION:OK\, Organisator: MR      
DTSTART;TZID=Europe/Zurich:20261204T000000
DTEND;TZID=Europe/Zurich:20261204T235959
END:VEVENT
BEGIN:VEVENT
UID:f89640b72873f1080065b13cfa21d20c
DTSTAMP:20260421T111833Z
SUMMARY:Papiersammlung Freizeitclub
DESCRIPTION:\, Organisator: Gde      
DTSTART;TZID=Europe/Zurich:20261205T000000
DTEND;TZID=Europe/Zurich:20261205T235959
END:VEVENT
BEGIN:VEVENT
UID:b7d647ffbd7e44a3d00e978378b2a0c2
DTSTAMP:20260421T111833Z
SUMMARY:DV Kreisturnverband Brugg in Scherz
DESCRIPTION:\, Organisator: STV FR MR    
DTSTART;TZID=Europe/Zurich:20261205T000000
DTEND;TZID=Europe/Zurich:20261205T235959
END:VEVENT
BEGIN:VEVENT
UID:2dae7eca04f12c1e16063df34b4ad7ae
DTSTAMP:20260421T111833Z
SUMMARY:Präsidentenkonferenz / Terminkoordination
DESCRIPTION:\, Organisator: Gde      
DTSTART;TZID=Europe/Zurich:20261209T000000
DTEND;TZID=Europe/Zurich:20261209T235959
END:VEVENT
BEGIN:VEVENT
UID:9abaafe2d35ecc6d585e69e2fbfffac7
DTSTAMP:20260421T111833Z
SUMMARY:Präsidentenkonferenz Remigen
DESCRIPTION:Ramona\, Organisator: STV      
DTSTART;TZID=Europe/Zurich:20261209T000000
DTEND;TZID=Europe/Zurich:20261209T235959
END:VEVENT
BEGIN:VEVENT
UID:55cc568ab32fdb540490e02496c7463c
DTSTAMP:20260421T111833Z
SUMMARY:Chlaushöck
DESCRIPTION:Mägi\, Nicole\, Monika H.\, Organisator: FR      
DTSTART;TZID=Europe/Zurich:20261211T000000
DTEND;TZID=Europe/Zurich:20261211T235959
END:VEVENT
BEGIN:VEVENT
UID:a6839922c8baee62f26939c601f9d397
DTSTAMP:20260421T111833Z
SUMMARY:Turnershow Sonntagsprobe
DESCRIPTION:\, Organisator: STV FR MR JR   
DTSTART;TZID=Europe/Zurich:20261213T000000
DTEND;TZID=Europe/Zurich:20261213T235959
END:VEVENT
BEGIN:VEVENT
UID:090bee13a2e4c9f05fcd7ebc83784353
DTSTAMP:20260421T111833Z
SUMMARY:Adventskonzert
DESCRIPTION:Kirche Remigen\, Organisator: Gde      
DTSTART;TZID=Europe/Zurich:20261213T000000
DTEND;TZID=Europe/Zurich:20261213T235959
END:VEVENT
BEGIN:VEVENT
UID:43570af9e1c62e4335c1f3db420f6722
DTSTAMP:20260421T111833Z
SUMMARY:Weihnachtsbaumverkauf Gemeinde Remigen
DESCRIPTION:\, Organisator: STV      
DTSTART;TZID=Europe/Zurich:20261219T000000
DTEND;TZID=Europe/Zurich:20261219T235959
END:VEVENT
BEGIN:VEVENT
UID:217172c2a256300f0db173ce33b6cb47
DTSTAMP:20260421T111833Z
SUMMARY:Weihnachtsferien
DESCRIPTION:\, Organisator: Allg      
DTSTART;TZID=Europe/Zurich:20261219T000000
DTEND;TZID=Europe/Zurich:20270103T235959
END:VEVENT
BEGIN:VEVENT
UID:52731ff5d3414ffccf8b6019c0106552
DTSTAMP:20260421T111833Z
SUMMARY:Weihnachtsbaumverkauf
DESCRIPTION:\, Organisator: Gde      
DTSTART;TZID=Europe/Zurich:20261219T000000
DTEND;TZID=Europe/Zurich:20261219T235959
END:VEVENT
BEGIN:VEVENT
UID:8b1ae9d6f6ad758811fc3115ff6a9cc4
DTSTAMP:20260421T111833Z
SUMMARY:Turnershow Halle einrichten
DESCRIPTION:\, Organisator: STV FR MR    
DTSTART;TZID=Europe/Zurich:20261228T000000
DTEND;TZID=Europe/Zurich:20261228T235959
END:VEVENT
BEGIN:VEVENT
UID:4b6982f9e254ee17f2f3303888705a94
DTSTAMP:20260421T111833Z
SUMMARY:Turnershow Hauptprobe
DESCRIPTION:\, Organisator: STV FR MR JR   
DTSTART;TZID=Europe/Zurich:20261229T000000
DTEND;TZID=Europe/Zurich:20261229T235959
END:VEVENT
END:VCALENDAR
