BEGIN:VCALENDAR
PRODID:-//opencal/ical//2.0/EN
VERSION:2.0
CALSCALE:GREGORIAN
BEGIN:VEVENT
UID:b13bfe390ed002bbf86afe362385daa2
DTSTAMP:20260421T145201Z
SUMMARY:113. Generalversammlung STV
DESCRIPTION:Vorstand\, Organisator: STV JR     
DTSTART;TZID=Europe/Zurich:20250131T000000
DTEND;TZID=Europe/Zurich:20250131T235959
END:VEVENT
BEGIN:VEVENT
UID:0bf80095971b3da0789c81c146528a6a
DTSTAMP:20260421T145201Z
SUMMARY:Remiger Dorf Skiweekend
DESCRIPTION:Grindelwald\, Organisator: STV      
DTSTART;TZID=Europe/Zurich:20250228T000000
DTEND;TZID=Europe/Zurich:20250301T235959
END:VEVENT
BEGIN:VEVENT
UID:4329cb9fd23248c41ec9242d41e9812b
DTSTAMP:20260421T145201Z
SUMMARY:Maskenball
DESCRIPTION:OK\, Organisator: STV      
DTSTART;TZID=Europe/Zurich:20250307T000000
DTEND;TZID=Europe/Zurich:20250309T235959
END:VEVENT
BEGIN:VEVENT
UID:41320586a4e5528fa3ca0c90460032c5
DTSTAMP:20260421T145201Z
SUMMARY:VM Indoor
DESCRIPTION:TK\, Organisator: STV      
DTSTART;TZID=Europe/Zurich:20250314T000000
DTEND;TZID=Europe/Zurich:20250314T235959
END:VEVENT
BEGIN:VEVENT
UID:dabf9d66f314cf99a9101436369c5bf9
DTSTAMP:20260421T145201Z
SUMMARY:Volleyball-Night\, Windisch
DESCRIPTION:Volley\, TK\, Organisator: STV      
DTSTART;TZID=Europe/Zurich:20250328T000000
DTEND;TZID=Europe/Zurich:20250328T235959
END:VEVENT
BEGIN:VEVENT
UID:283be7f689f77aaedb3f29c903b80b94
DTSTAMP:20260421T145201Z
SUMMARY:Juko-Konferenz
DESCRIPTION:Jugileitende\, Organisator: STV JR     
DTSTART;TZID=Europe/Zurich:20250403T000000
DTEND;TZID=Europe/Zurich:20250403T235959
END:VEVENT
BEGIN:VEVENT
UID:2aebe3d56cbb21b53c45cd955c2b7407
DTSTAMP:20260421T145201Z
SUMMARY:Jugitag\, Veltheim
DESCRIPTION:Jugileitende\, Organisator: STV JR     
DTSTART;TZID=Europe/Zurich:20250426T000000
DTEND;TZID=Europe/Zurich:20250426T235959
END:VEVENT
BEGIN:VEVENT
UID:c9f4f3ecf417098d030d436128f440f6
DTSTAMP:20260421T145201Z
SUMMARY:Volleyballturnier\, Turnhalle Remigen
DESCRIPTION:Carmen + Yvonne\, Organisator: STV      
DTSTART;TZID=Europe/Zurich:20250503T000000
DTEND;TZID=Europe/Zurich:20250503T235959
END:VEVENT
BEGIN:VEVENT
UID:6531a90d666791f83fbf4bd79ba2f053
DTSTAMP:20260421T145201Z
SUMMARY:Trainingsweekend in Herisau
DESCRIPTION:techn. Leitung\, Organisator: STV MR     
DTSTART;TZID=Europe/Zurich:20250516T000000
DTEND;TZID=Europe/Zurich:20250518T235959
END:VEVENT
BEGIN:VEVENT
UID:c289651ff6e7118e6fb00d54c8823939
DTSTAMP:20260421T145201Z
SUMMARY:PLK\, Villnachern
DESCRIPTION:Ramona + TK\, Organisator: STV      
DTSTART;TZID=Europe/Zurich:20250521T000000
DTEND;TZID=Europe/Zurich:20250521T235959
END:VEVENT
BEGIN:VEVENT
UID:f975511709b3e7fc349c94dbf5a0e836
DTSTAMP:20260421T145201Z
SUMMARY:UBS Kids Cup\, Villnachern
DESCRIPTION:Jugileitende\, Organisator: STV JR     
DTSTART;TZID=Europe/Zurich:20250524T000000
DTEND;TZID=Europe/Zurich:20250524T235959
END:VEVENT
BEGIN:VEVENT
UID:eea5af61ed69236915ee6e0285a6889a
DTSTAMP:20260421T145201Z
SUMMARY:Auffahrtswanderung
DESCRIPTION:Vorstand\, Organisator: MR STV FR JR   
DTSTART;TZID=Europe/Zurich:20250529T000000
DTEND;TZID=Europe/Zurich:20250529T235959
END:VEVENT
BEGIN:VEVENT
UID:82c85c41210643b8a26188344df3305f
DTSTAMP:20260421T145201Z
SUMMARY:Jugendturnfest Mettauertal
DESCRIPTION:Jugileitende\, Organisator: STV JR     
DTSTART;TZID=Europe/Zurich:20250531T000000
DTEND;TZID=Europe/Zurich:20250531T235959
END:VEVENT
BEGIN:VEVENT
UID:63569ef78b49a1121932dfac696fc137
DTSTAMP:20260421T145201Z
SUMMARY:ETF Lausanne Einzel und Aerobic
DESCRIPTION:Alle\, Organisator: STV      
DTSTART;TZID=Europe/Zurich:20250612T000000
DTEND;TZID=Europe/Zurich:20250615T235959
END:VEVENT
BEGIN:VEVENT
UID:e8a7284792ab983584a8c94fb2de0881
DTSTAMP:20260421T145201Z
SUMMARY:ETF Lausanne\, Aktive
DESCRIPTION:Alle\, Organisator: STV      
DTSTART;TZID=Europe/Zurich:20250619T000000
DTEND;TZID=Europe/Zurich:20250622T235959
END:VEVENT
BEGIN:VEVENT
UID:31805a66828dcf71918cb767b9196b36
DTSTAMP:20260421T145201Z
SUMMARY:VM Minigolf Windisch
DESCRIPTION:Luki\, Organisator: STV      
DTSTART;TZID=Europe/Zurich:20250704T000000
DTEND;TZID=Europe/Zurich:20250704T235959
END:VEVENT
BEGIN:VEVENT
UID:fb0af41004e3971566daea532b1fcae3
DTSTAMP:20260421T145201Z
SUMMARY:Dorfgrümpelturnier
DESCRIPTION:TK\, Organisator: STV      
DTSTART;TZID=Europe/Zurich:20250816T000000
DTEND;TZID=Europe/Zurich:20250816T235959
END:VEVENT
BEGIN:VEVENT
UID:8d2a5c417845e8406f9767c6a8abc0f8
DTSTAMP:20260421T145201Z
SUMMARY:VM OL
DESCRIPTION:Luki\, Organisator: STV      
DTSTART;TZID=Europe/Zurich:20250822T000000
DTEND;TZID=Europe/Zurich:20250822T235959
END:VEVENT
BEGIN:VEVENT
UID:bbcf8aab15c3940f381d973a1cf62cde
DTSTAMP:20260421T145201Z
SUMMARY:Turnfahrt
DESCRIPTION:Alle\, Organisator: STV      
DTSTART;TZID=Europe/Zurich:20250830T000000
DTEND;TZID=Europe/Zurich:20250831T235959
END:VEVENT
BEGIN:VEVENT
UID:3eab32f39c0562f13818a6ea60e01db6
DTSTAMP:20260421T145201Z
SUMMARY:Turnen / Faustball mit STV
DESCRIPTION:techn. Leitung\, Organisator: STV MR     
DTSTART;TZID=Europe/Zurich:20250905T000000
DTEND;TZID=Europe/Zurich:20250905T235959
END:VEVENT
BEGIN:VEVENT
UID:0e9fc47b487b400f7c84157589b5d35c
DTSTAMP:20260421T145201Z
SUMMARY:LA Kreismeisterschaft\, Schinznach-Dorf
DESCRIPTION:Jugileitende\, Organisator: STV JR     
DTSTART;TZID=Europe/Zurich:20250906T000000
DTEND;TZID=Europe/Zurich:20250906T235959
END:VEVENT
BEGIN:VEVENT
UID:7ca55645dba80b0d1fa47700f3692782
DTSTAMP:20260421T145201Z
SUMMARY:Kreisspieltag Effingen\, Aktive
DESCRIPTION:TK\, Organisator: STV      
DTSTART;TZID=Europe/Zurich:20250920T000000
DTEND;TZID=Europe/Zurich:20250920T235959
END:VEVENT
BEGIN:VEVENT
UID:fd23bba8387d221effd265a40e37d555
DTSTAMP:20260421T145201Z
SUMMARY:Kreisspieltag Effingen\, Jugend
DESCRIPTION:Jugileitende\, Organisator: STV JR     
DTSTART;TZID=Europe/Zurich:20250921T000000
DTEND;TZID=Europe/Zurich:20250921T235959
END:VEVENT
BEGIN:VEVENT
UID:82335785be0a7fa80e82040b2bad5e58
DTSTAMP:20260421T145201Z
SUMMARY:VM Schwimmen
DESCRIPTION:TK\, Organisator: STV      
DTSTART;TZID=Europe/Zurich:20251003T000000
DTEND;TZID=Europe/Zurich:20251003T235959
END:VEVENT
BEGIN:VEVENT
UID:731acb95352dd73fd0abb67544d92755
DTSTAMP:20260421T145201Z
SUMMARY:Jassmeisterschaft
DESCRIPTION:Thomas\, Organisator: STV      
DTSTART;TZID=Europe/Zurich:20251107T000000
DTEND;TZID=Europe/Zurich:20251107T235959
END:VEVENT
BEGIN:VEVENT
UID:cbc49932c04f34e183490159faa95b10
DTSTAMP:20260421T145201Z
SUMMARY:Schlusshock
DESCRIPTION:OK\, Organisator: STV      
DTSTART;TZID=Europe/Zurich:20251115T000000
DTEND;TZID=Europe/Zurich:20251115T235959
END:VEVENT
BEGIN:VEVENT
UID:0bee36db45b01ade944b26f6054943d8
DTSTAMP:20260421T145201Z
SUMMARY:DV Kreisturnverband Brugg in Mönthal
DESCRIPTION:\, Organisator: STV MR FR    
DTSTART;TZID=Europe/Zurich:20251213T000000
DTEND;TZID=Europe/Zurich:20251213T235959
END:VEVENT
END:VCALENDAR
