BEGIN:VCALENDAR
PRODID:-//opencal/ical//2.0/EN
VERSION:2.0
CALSCALE:GREGORIAN
BEGIN:VEVENT
UID:00c8ca9decff4808dbf17b0a455b89a9
DTSTAMP:20260426T003648Z
SUMMARY:Sternmarsch
DESCRIPTION:Vorstand\, Organisator: MR      
DTSTART;TZID=Europe/Zurich:20250112T000000
DTEND;TZID=Europe/Zurich:20250112T235959
END:VEVENT
BEGIN:VEVENT
UID:ee6ab7d5f97e96aab34ea53394492efc
DTSTAMP:20260426T003648Z
SUMMARY:59. Generalversammlung Männerriege
DESCRIPTION:Vorstand\, Organisator: MR      
DTSTART;TZID=Europe/Zurich:20250117T000000
DTEND;TZID=Europe/Zurich:20250117T235959
END:VEVENT
BEGIN:VEVENT
UID:07c0fc1c132299a745b2ecaa66c54849
DTSTAMP:20260426T003648Z
SUMMARY:Remiger Dorf Skiweekend
DESCRIPTION:Grindelwald\, Organisator: MR      
DTSTART;TZID=Europe/Zurich:20250228T000000
DTEND;TZID=Europe/Zurich:20250301T235959
END:VEVENT
BEGIN:VEVENT
UID:75fb84ff07106a749874828c4e30b096
DTSTAMP:20260426T003648Z
SUMMARY:Faustball Grosshallen-Training Brugg
DESCRIPTION:Leiter Faustball\, Organisator: MR      
DTSTART;TZID=Europe/Zurich:20250322T000000
DTEND;TZID=Europe/Zurich:20250322T235959
END:VEVENT
BEGIN:VEVENT
UID:2433383ac0e352e955c174210f141b56
DTSTAMP:20260426T003648Z
SUMMARY:Faustballturnier Niederrohrdorf
DESCRIPTION:Leiter Faustball\, Organisator: MR      
DTSTART;TZID=Europe/Zurich:20250405T000000
DTEND;TZID=Europe/Zurich:20250405T235959
END:VEVENT
BEGIN:VEVENT
UID:f3c7fbd4ac785875688646fa72f1b12b
DTSTAMP:20260426T003648Z
SUMMARY:Vereinsmeisterschaft Bowling
DESCRIPTION:techn. Leitung\, Organisator: MR      
DTSTART;TZID=Europe/Zurich:20250409T000000
DTEND;TZID=Europe/Zurich:20250409T235959
END:VEVENT
BEGIN:VEVENT
UID:cb9421acdb5bd187c8e6cc449509704c
DTSTAMP:20260426T003648Z
SUMMARY:Vereinsmeisterschaft Schiessen
DESCRIPTION:techn. Leitung\, Organisator: MR      
DTSTART;TZID=Europe/Zurich:20250416T000000
DTEND;TZID=Europe/Zurich:20250416T235959
END:VEVENT
BEGIN:VEVENT
UID:c97e19b393b50e422436e23072f7e67b
DTSTAMP:20260426T003648Z
SUMMARY:Trainingsweekend in Herisau
DESCRIPTION:techn. Leitung\, Organisator: STV MR     
DTSTART;TZID=Europe/Zurich:20250516T000000
DTEND;TZID=Europe/Zurich:20250518T235959
END:VEVENT
BEGIN:VEVENT
UID:0a7238d50cd6971380b3f574d8dba1ca
DTSTAMP:20260426T003648Z
SUMMARY:Teilnahme am Feldschiessen
DESCRIPTION:techn. Leitung\, Organisator: MR      
DTSTART;TZID=Europe/Zurich:20250524T000000
DTEND;TZID=Europe/Zurich:20250524T235959
END:VEVENT
BEGIN:VEVENT
UID:56de0b05c927da32b9ba66bc4f8bf4dd
DTSTAMP:20260426T003648Z
SUMMARY:Auffahrtswanderung
DESCRIPTION:Vorstand\, Organisator: MR STV FR JR   
DTSTART;TZID=Europe/Zurich:20250529T000000
DTEND;TZID=Europe/Zurich:20250529T235959
END:VEVENT
BEGIN:VEVENT
UID:a8f09cd789e0bf499c9a5aef3a0acf4a
DTSTAMP:20260426T003648Z
SUMMARY:Papiersammlung
DESCRIPTION:Vorstand\, Organisator: MR Gde     
DTSTART;TZID=Europe/Zurich:20250607T000000
DTEND;TZID=Europe/Zurich:20250607T235959
END:VEVENT
BEGIN:VEVENT
UID:a3663194e51302240c899ac412d9ed70
DTSTAMP:20260426T003648Z
SUMMARY:Eidg. Turnfest Lausanne
DESCRIPTION:techn. Leitung\, Organisator: MR      
DTSTART;TZID=Europe/Zurich:20250620T000000
DTEND;TZID=Europe/Zurich:20250621T235959
END:VEVENT
BEGIN:VEVENT
UID:40209a54c67f531059f00b944395ec40
DTSTAMP:20260426T003648Z
SUMMARY:Turnen mit  Frauenriege
DESCRIPTION:techn. Leitung\, Organisator: MR FR     
DTSTART;TZID=Europe/Zurich:20250625T000000
DTEND;TZID=Europe/Zurich:20250625T235959
END:VEVENT
BEGIN:VEVENT
UID:517809c48695c8543f0865c1726c9573
DTSTAMP:20260426T003648Z
SUMMARY:Vereinsmeisterschaft Minigolf
DESCRIPTION:techn. Leitung\, Organisator: MR      
DTSTART;TZID=Europe/Zurich:20250709T000000
DTEND;TZID=Europe/Zurich:20250709T235959
END:VEVENT
BEGIN:VEVENT
UID:7bde04ff7de27ad68926af3158213063
DTSTAMP:20260426T003648Z
SUMMARY:Abendrennen Schachen Brugg mit Velo
DESCRIPTION:techn. Leitung\, Organisator: MR      
DTSTART;TZID=Europe/Zurich:20250716T000000
DTEND;TZID=Europe/Zurich:20250716T235959
END:VEVENT
BEGIN:VEVENT
UID:f1320e8787acae7a8bd0d49d610cfcc6
DTSTAMP:20260426T003648Z
SUMMARY:Faustball Plauschturnier in Remigen
DESCRIPTION:Leiter Faustball\, Organisator: MR      
DTSTART;TZID=Europe/Zurich:20250808T000000
DTEND;TZID=Europe/Zurich:20250808T235959
END:VEVENT
BEGIN:VEVENT
UID:b88c3e55bb8c1abef65d4c64eb649095
DTSTAMP:20260426T003648Z
SUMMARY:Fussball Grümpi
DESCRIPTION:OK\, Organisator: MR      
DTSTART;TZID=Europe/Zurich:20250816T000000
DTEND;TZID=Europe/Zurich:20250816T235959
END:VEVENT
BEGIN:VEVENT
UID:9a870a74e60c8eed66114b11b6e6641c
DTSTAMP:20260426T003648Z
SUMMARY:Seniorenhock
DESCRIPTION:Leiter Senioren\, Organisator: MR      
DTSTART;TZID=Europe/Zurich:20250827T000000
DTEND;TZID=Europe/Zurich:20250827T235959
END:VEVENT
BEGIN:VEVENT
UID:290dbac54a7b35e5dfd58feccbd5508f
DTSTAMP:20260426T003648Z
SUMMARY:Männerriegenreise
DESCRIPTION:Roland\, Organisator: MR      
DTSTART;TZID=Europe/Zurich:20250830T000000
DTEND;TZID=Europe/Zurich:20250831T235959
END:VEVENT
BEGIN:VEVENT
UID:e636e1a3588d2ad496f3640e859ff867
DTSTAMP:20260426T003648Z
SUMMARY:Turnen / Faustball mit STV
DESCRIPTION:techn. Leitung\, Organisator: STV MR     
DTSTART;TZID=Europe/Zurich:20250905T000000
DTEND;TZID=Europe/Zurich:20250905T235959
END:VEVENT
BEGIN:VEVENT
UID:a95a25f67e00ee60dc513a5e5aaf8e80
DTSTAMP:20260426T003648Z
SUMMARY:Kreisspieltag Effingen
DESCRIPTION:Leiter Faustball\, Organisator: MR      
DTSTART;TZID=Europe/Zurich:20250920T000000
DTEND;TZID=Europe/Zurich:20250920T235959
END:VEVENT
BEGIN:VEVENT
UID:a13c2cb782f61b55c327eef9f37050d2
DTSTAMP:20260426T003648Z
SUMMARY:Hallen Faustball Freundschaftsturnier Remigen
DESCRIPTION:Leiter Faustball\, Organisator: MR      
DTSTART;TZID=Europe/Zurich:20251003T000000
DTEND;TZID=Europe/Zurich:20251003T235959
END:VEVENT
BEGIN:VEVENT
UID:8a04255ec0e3d289b24a3db138855575
DTSTAMP:20260426T003648Z
SUMMARY:Chlaushock
DESCRIPTION:Waldhütte\, Organisator: MR      
DTSTART;TZID=Europe/Zurich:20251205T000000
DTEND;TZID=Europe/Zurich:20251205T235959
END:VEVENT
BEGIN:VEVENT
UID:16bef2ed2b90b92bc38e295f114908d6
DTSTAMP:20260426T003648Z
SUMMARY:DV Kreisturnverband Brugg in Mönthal
DESCRIPTION:\, Organisator: STV MR FR    
DTSTART;TZID=Europe/Zurich:20251213T000000
DTEND;TZID=Europe/Zurich:20251213T235959
END:VEVENT
END:VCALENDAR
