BEGIN:VCALENDAR
PRODID:-//opencal/ical//2.0/EN
VERSION:2.0
CALSCALE:GREGORIAN
BEGIN:VEVENT
UID:f7925a2796a78a2728cb4ceb87e8fd50
DTSTAMP:20260421T111505Z
SUMMARY:113. Generalversammlung STV
DESCRIPTION:Vorstand\, Organisator: STV JR     
DTSTART;TZID=Europe/Zurich:20250131T000000
DTEND;TZID=Europe/Zurich:20250131T235959
END:VEVENT
BEGIN:VEVENT
UID:57cb8f152aa303ade8e18a8d08ff270d
DTSTAMP:20260421T111505Z
SUMMARY:Juko-Konferenz
DESCRIPTION:Jugileitende\, Organisator: STV JR     
DTSTART;TZID=Europe/Zurich:20250403T000000
DTEND;TZID=Europe/Zurich:20250403T235959
END:VEVENT
BEGIN:VEVENT
UID:481bc9b90a1240d512a92cc935858187
DTSTAMP:20260421T111505Z
SUMMARY:Jugitag\, Veltheim
DESCRIPTION:Jugileitende\, Organisator: STV JR     
DTSTART;TZID=Europe/Zurich:20250426T000000
DTEND;TZID=Europe/Zurich:20250426T235959
END:VEVENT
BEGIN:VEVENT
UID:cef4eff3a4ab31b6ddb9e4253c258fe9
DTSTAMP:20260421T111505Z
SUMMARY:UBS Kids Cup\, Villnachern
DESCRIPTION:Jugileitende\, Organisator: STV JR     
DTSTART;TZID=Europe/Zurich:20250524T000000
DTEND;TZID=Europe/Zurich:20250524T235959
END:VEVENT
BEGIN:VEVENT
UID:bf0123cf780aaa6ddf6d9c01793939f4
DTSTAMP:20260421T111505Z
SUMMARY:Auffahrtswanderung
DESCRIPTION:Vorstand\, Organisator: MR STV FR JR   
DTSTART;TZID=Europe/Zurich:20250529T000000
DTEND;TZID=Europe/Zurich:20250529T235959
END:VEVENT
BEGIN:VEVENT
UID:5cd1c5d4f155515fea18a51beff80d3d
DTSTAMP:20260421T111505Z
SUMMARY:Jugendturnfest Mettauertal
DESCRIPTION:Jugileitende\, Organisator: STV JR     
DTSTART;TZID=Europe/Zurich:20250531T000000
DTEND;TZID=Europe/Zurich:20250531T235959
END:VEVENT
BEGIN:VEVENT
UID:0cbfe0486fa625769b065ccf209ff935
DTSTAMP:20260421T111505Z
SUMMARY:LA Kreismeisterschaft\, Schinznach-Dorf
DESCRIPTION:Jugileitende\, Organisator: STV JR     
DTSTART;TZID=Europe/Zurich:20250906T000000
DTEND;TZID=Europe/Zurich:20250906T235959
END:VEVENT
BEGIN:VEVENT
UID:3f2c32d1c60d70f216872295180f5a90
DTSTAMP:20260421T111505Z
SUMMARY:Kreisspieltag Effingen\, Jugend
DESCRIPTION:Jugileitende\, Organisator: STV JR     
DTSTART;TZID=Europe/Zurich:20250921T000000
DTEND;TZID=Europe/Zurich:20250921T235959
END:VEVENT
END:VCALENDAR
