BEGIN:VCALENDAR
PRODID:-//opencal/ical//2.0/EN
VERSION:2.0
CALSCALE:GREGORIAN
BEGIN:VEVENT
UID:39e423fe397de6138a790bac7ffeb2c1
DTSTAMP:20260419T135718Z
SUMMARY:Papiersammlung Frauenriege
DESCRIPTION:\, Organisator: Gde FR     
DTSTART;TZID=Europe/Zurich:20250315T000000
DTEND;TZID=Europe/Zurich:20250315T235959
END:VEVENT
BEGIN:VEVENT
UID:f5d8cadb1c90b7d54d903fdbfa671251
DTSTAMP:20260419T135718Z
SUMMARY:Remigen bewegt\, Coop Gemeindeduell
DESCRIPTION:\, Organisator: Gde Allg     
DTSTART;TZID=Europe/Zurich:20250501T000000
DTEND;TZID=Europe/Zurich:20250531T235959
END:VEVENT
BEGIN:VEVENT
UID:1d4d2964995c29f95041b391a2d80376
DTSTAMP:20260419T135718Z
SUMMARY:Papiersammlung
DESCRIPTION:Vorstand\, Organisator: MR Gde     
DTSTART;TZID=Europe/Zurich:20250607T000000
DTEND;TZID=Europe/Zurich:20250607T235959
END:VEVENT
BEGIN:VEVENT
UID:30dbfeef64347c4c7fecd09f493d2fe1
DTSTAMP:20260419T135718Z
SUMMARY:Bundesfeier / Brunch
DESCRIPTION:\, Organisator: Gde      
DTSTART;TZID=Europe/Zurich:20250801T000000
DTEND;TZID=Europe/Zurich:20250801T235959
END:VEVENT
BEGIN:VEVENT
UID:7a2ef8b9ef7987b62beed633706299fe
DTSTAMP:20260419T135718Z
SUMMARY:Gemeindeversammlung
DESCRIPTION:\, Organisator: Gde      
DTSTART;TZID=Europe/Zurich:20251126T000000
DTEND;TZID=Europe/Zurich:20251126T235959
END:VEVENT
BEGIN:VEVENT
UID:db6bba88d5ccebcf0655d5af000f9e39
DTSTAMP:20260419T135718Z
SUMMARY:Terminkoordination / Präsidentenkonferenz
DESCRIPTION:\, Organisator: Gde      
DTSTART;TZID=Europe/Zurich:20251203T000000
DTEND;TZID=Europe/Zurich:20251203T235959
END:VEVENT
BEGIN:VEVENT
UID:6b0d3f89212589845a6b2038a53a166b
DTSTAMP:20260419T135718Z
SUMMARY:Weihnachtsbaumverkauf
DESCRIPTION:\, Organisator: Gde      
DTSTART;TZID=Europe/Zurich:20251220T000000
DTEND;TZID=Europe/Zurich:20251220T235959
END:VEVENT
END:VCALENDAR
